BEGIN:VCALENDAR
VERSION:2.0
PRODID:-//Sabre//Sabre VObject 4.5.7//EN
CALSCALE:GREGORIAN
BEGIN:VEVENT
UID:sabre-vobject-232237da-6778-49d9-8324-96164b14deeb
DTSTAMP:20260421T141208Z
SUMMARY:Sommerferien-Filmworkshop in Plessa
DTSTART:20260822T080000Z
DTEND:20260822T140000Z
DESCRIPTION:<p>Du wollest schon immer deinen eigenen Film drehen? Der Filmw
 orkshop der Kinderfilmuni macht es möglich!</p>\n<p>Zusammen mit anderen 
 Teilnehmenden kannst du einen Kurzfilm drehen und ihn am Ende deiner Famil
 ie vorstellen. Du übernimmst mit anderen die Aufgaben der Regie\, Kameraf
 ührung\, Storytelling\, Schauspiel und Schnitt. So kannst du verschiedene
  Facetten des Filmemachens erkunden und aktiv mitgestalten. Begleitet wird
  das Ganze von einem erfahrenen Filmteam.&nbsp\;</p>\n<p>Sei dabei und las
 s deine Ideen einfließen\, um zusammen mit Gleichaltrigen einen fabelhaft
 en Kurzfilm zu drehen!<br>&nbsp\;</p>\n<h4>Wann?&nbsp\;</h4>\n<p>17.08. - 
 22.08. täglich von 10 -16 Uhr</p>\n<h4>Wo?&nbsp\;</h4>\n<p>Kulturhaus Ple
 ssa\, kleiner Saal unten links<br>Platz des Friedens 1\, 04928 Plessa</p>\
 n<h4>Wer?</h4>\n<p>Jugendliche von 12 - 15 Jahren</p>\n<h4>Freie Plätze?<
 /h4>\n<p>Ingesamt sind 12 Teilnehmende möglich.&nbsp\;<br>Damit der Works
 hop stattfinden kann\, müssen sich mindestens 8 Teilnehmende anmelden.</p
 >\n<h4>Kosten?</h4>\n<p>Da sowohl die Kinderfilmuni als auch die Präsenzs
 telle Westlausitz | Finsterwalde vom Land Brandenburg finanziert werden\, 
 entstehen für die Teilnehmenden keine Kosten.</p>\n<h4>Anmeldung?</h4>\n<
 p>Eine verbindliche Anmeldung ist notwendig. Schick uns hierfür einfach p
 er Mail an kontakt@praesenzstelle-finsterwalde.de den ausgefüllten Anmeld
 ebogen zurück\, den du weiter unten zum Download findest.&nbsp\;</p>\n<p>
 <i><strong>Weitere Infos zur Kinderfilmuni:</strong></i></p>\n<p><i>Die Ki
 nderfilmuni Babelsberg wurde 2007 als interdisziplinäres Hochschulschulpr
 ojekt mit Unterstützung der Thalia Arthouse Kinos und des Potsdamer Filmm
 useums ins Leben gerufen. Seit dieser Zeit ermöglichen Professor:innen un
 d künstlerische Mitarbeiter:innen der Filmuniversität\, Mitarbeiter:inne
 n des Filmmuseums und des Thalia Kinos wie auch besondere Gäste aus der d
 eutschen Kinderfilm- und Kinderfernsehlandschaft jungen Filmfans im Alter 
 von 8 bis 12 Jahren einen Einblick in filmische Schaffensprozesse. Die Tou
 r durch die Standorte der Präsenzstellen wird durch eine Förderung des M
 inisteriums für Wissenschaft\, Forschung und Kultur des Landes Brandenbur
 g ermöglicht und beinhaltet neben Vorlesungen für junge Filmfans im Grun
 dschulalter auch Veranstaltungen für Jugendliche und junge Erwachsene.</i
 ></p>\n<p><a href="https://www.praesenzstellen.de/kinderfilmuni" target="_
 blank"><i>Kinderfilmuni @ Präsenzstellen</i></a></p>\n<p>&nbsp\;</p>
URL;VALUE=URI:https://www.praesenzstelle-finsterwalde.de/termine/detail/som
 merferien-filmworkshop-in-plessa
END:VEVENT
END:VCALENDAR
